BEGIN:VCALENDAR
VERSION:2.0
PRODID:-//NSC - ECPv6.15.11//NONSGML v1.0//EN
CALSCALE:GREGORIAN
METHOD:PUBLISH
X-ORIGINAL-URL:https://dev6.exertpro.com/nsc
X-WR-CALDESC:Events for NSC
REFRESH-INTERVAL;VALUE=DURATION:PT1H
X-Robots-Tag:noindex
X-PUBLISHED-TTL:PT1H
BEGIN:VTIMEZONE
TZID:UTC
BEGIN:STANDARD
TZOFFSETFROM:+0000
TZOFFSETTO:+0000
TZNAME:UTC
DTSTART:20210101T000000
END:STANDARD
END:VTIMEZONE
BEGIN:VEVENT
DTSTART;TZID=UTC:20240729T100000
DTEND;TZID=UTC:20240729T140000
DTSTAMP:20260420T164108
CREATED:20251008T085147Z
LAST-MODIFIED:20251008T085147Z
UID:673-1722247200-1722261600@dev6.exertpro.com
SUMMARY:Neighborhood Service Center's 1st Community Summer Festival
DESCRIPTION:Neighborhood Service Center’s 1st Community Summer Festival at 608 Avenue S N.W Winter Haven FL
URL:https://dev6.exertpro.com/nsc/event/neighborhood-service-centers-1st-community-summer-festival/
LOCATION:608 Avenue S N.W Winter Haven FL\, 608 Avenue S N.W Winter Haven FL\, Winter Haven\, FL\, 33881\, United States
CATEGORIES:Children,Donation,Education,Helping
ATTACH;FMTTYPE=image/jpeg:https://dev6.exertpro.com/nsc/wp-content/uploads/2025/10/unnamed.jpg
END:VEVENT
BEGIN:VEVENT
DTSTART;TZID=UTC:20240518T110000
DTEND;TZID=UTC:20240518T140000
DTSTAMP:20260420T164108
CREATED:20251008T085040Z
LAST-MODIFIED:20251008T085040Z
UID:670-1716030000-1716040800@dev6.exertpro.com
SUMMARY:Neighborhood Service Center's 1st Senior Empowerment Brunch
DESCRIPTION:Neighborhood Service Center’s 1st Senior Empowerment Brunch at 608 Avenue S N.W Winter Haven FL
URL:https://dev6.exertpro.com/nsc/event/neighborhood-service-centers-1st-senior-empowerment-brunch/
LOCATION:608 Avenue S N.W Winter Haven FL\, 608 Avenue S N.W Winter Haven FL\, Winter Haven\, FL\, 33881\, United States
CATEGORIES:Children,Donation,Education,Helping
ATTACH;FMTTYPE=image/jpeg:https://dev6.exertpro.com/nsc/wp-content/uploads/2025/10/senior-empowerment.jpg
END:VEVENT
BEGIN:VEVENT
DTSTART;TZID=UTC:20240210T180000
DTEND;TZID=UTC:20240210T210000
DTSTAMP:20260420T164108
CREATED:20251008T084905Z
LAST-MODIFIED:20251008T084905Z
UID:667-1707588000-1707598800@dev6.exertpro.com
SUMMARY:Neighborhood Service Center's 1st All Red Community Awareness Gala
DESCRIPTION:Neighborhood Service Center’s 1st All Red Community Awareness Gala at 500 3rd St NW\, Winter Haven\, FL 33881\, United States
URL:https://dev6.exertpro.com/nsc/event/neighborhood-service-centers-1st-all-red-community-awareness-gala/
LOCATION:Nora Mayo Hall\, 500 3rd St NW\, Winter Haven\, FL 33881\, United States\, NW Winter Haven\, FL\, 33881\, United States
CATEGORIES:Children,Donation,Education,Helping
ATTACH;FMTTYPE=image/jpeg:https://dev6.exertpro.com/nsc/wp-content/uploads/2025/10/Resized_20864-2.jpeg
END:VEVENT
BEGIN:VEVENT
DTSTART;TZID=UTC:20240128T100000
DTEND;TZID=UTC:20240128T140000
DTSTAMP:20260420T164108
CREATED:20251008T083821Z
LAST-MODIFIED:20251008T083821Z
UID:661-1706436000-1706450400@dev6.exertpro.com
SUMMARY:Neighborhood Service Center
DESCRIPTION:Ribbon Cutting Ceremony & Grand Opening\nFree to the Families in the Community \nWe Will Be Providing: \n\nFood distribution\nFamily fun & games\nDoor prizes/giveaways\nBlood pressure checks\nVaccines (flu\, COVID\, etc.)\nHealth screenings/prevention\nAlzheimer’s info/support\nSpeech/hearing service reps\nResource vendors and more!
URL:https://dev6.exertpro.com/nsc/event/neighborhood-service-center/
LOCATION:608 Avenue S N.W Winter Haven FL\, 608 Avenue S N.W Winter Haven FL\, Winter Haven\, FL\, 33881\, United States
CATEGORIES:Children,Donation,Education,Helping,Vaccine
ATTACH;FMTTYPE=image/jpeg:https://dev6.exertpro.com/nsc/wp-content/uploads/2025/10/neightbor-hood-service-center-1.jpg
END:VEVENT
BEGIN:VEVENT
DTSTART;TZID=UTC:20231201T180000
DTEND;TZID=UTC:20231201T210000
DTSTAMP:20260420T164108
CREATED:20251008T083555Z
LAST-MODIFIED:20251008T083555Z
UID:658-1701453600-1701464400@dev6.exertpro.com
SUMMARY:Senior Prom
DESCRIPTION:Senior Prom\, Holiday Formal Attire at 608 Avenue S N.W Winter Haven FL\n$10 Per Person\nHoliday Formal Attire Invitation for NSC daily attendees plus 2
URL:https://dev6.exertpro.com/nsc/event/senior-prom/
LOCATION:608 Avenue S N.W Winter Haven FL\, 608 Avenue S N.W Winter Haven FL\, Winter Haven\, FL\, 33881\, United States
CATEGORIES:Children,Donation,Education,Helping
ATTACH;FMTTYPE=image/jpeg:https://dev6.exertpro.com/nsc/wp-content/uploads/2025/10/Resized_20698.jpeg
END:VEVENT
BEGIN:VEVENT
DTSTART;TZID=UTC:20220721T153000
DTEND;TZID=UTC:20220721T153000
DTSTAMP:20260420T164108
CREATED:20251008T082350Z
LAST-MODIFIED:20251008T082350Z
UID:646-1658417400-1658417400@dev6.exertpro.com
SUMMARY:UK Will Have School Lesson
DESCRIPTION:Why do you think that she is a witch? He hasn’t got stuff all over him. Well\, I didn’t vote for you. A newt? Look\, my liege! I don’t want to talk to you no more\, you empty-headed animal food trough water! I fart in your general direction! Your mother was a hamster and your father smelt of elderberries! Now leave before I am forced to taunt you a second time!
URL:https://dev6.exertpro.com/nsc/event/uk-will-have-school-lesson/
LOCATION:Krispy Kreme\, St. Louis\, 63129
CATEGORIES:Children,Vaccine
ATTACH;FMTTYPE=image/jpeg:https://dev6.exertpro.com/nsc/wp-content/uploads/2025/10/vcn-post-4-min.jpg
END:VEVENT
BEGIN:VEVENT
DTSTART;TZID=UTC:20220506T180000
DTEND;TZID=UTC:20220506T180000
DTSTAMP:20260420T164108
CREATED:20251008T082030Z
LAST-MODIFIED:20251008T082030Z
UID:640-1651860000-1651860000@dev6.exertpro.com
SUMMARY:Use Hashtags To Support Online
DESCRIPTION:Look\, my liege! Shut up! Will you shut up?! What a strange person. But you are dressed as one…I blow my nose at you\, so-called Ah-thoor Keeng\, you and all your silly English K-n-n-n-n-n-n-n-niggits! The Lady of the Lake\, her arm clad in the purest shimmering samite\, held aloft Excalibur from the bosom of the water\, signifying by divine providence that I\, Arthur\, was to carry Excalibur. That is why I am your king.
URL:https://dev6.exertpro.com/nsc/event/use-hashtags-to-support-online-2/
LOCATION:The Corn Palace\, Mitchell\, 57301\, United States
CATEGORIES:Children
ATTACH;FMTTYPE=image/jpeg:https://dev6.exertpro.com/nsc/wp-content/uploads/2025/10/give-17.jpg
ORGANIZER;CN="Mr. Ed":MAILTO:neigh@gmail.com
END:VEVENT
BEGIN:VEVENT
DTSTART;TZID=UTC:20220317T200000
DTEND;TZID=UTC:20220317T200000
DTSTAMP:20260420T164108
CREATED:20251008T081319Z
LAST-MODIFIED:20251008T081319Z
UID:634-1647547200-1647547200@dev6.exertpro.com
SUMMARY:Use Hashtags To Support Online
DESCRIPTION:Well\, I got better. Ah\, now we see the violence inherent in the system! The swallow may fly south with the sun\, and the house martin or the plover may seek warmer climes in winter\, yet these are not strangers to our land. It’s only a model. It’s only a model.
URL:https://dev6.exertpro.com/nsc/event/use-hashtags-to-support-online/
LOCATION:Party Haus\, Los Angelos\, 90013\, United States
CATEGORIES:Children,Donation
ATTACH;FMTTYPE=image/jpeg:https://dev6.exertpro.com/nsc/wp-content/uploads/2025/10/give-5.jpg
ORGANIZER;CN="Famous Amos":MAILTO:cookies@aol.com
END:VEVENT
END:VCALENDAR